BEGIN:VCALENDAR
VERSION:2.0
PRODID:icalendar-ruby
CALSCALE:GREGORIAN
METHOD:PUBLISH
BEGIN:VEVENT
DTSTAMP:20260420T095625Z
UID:121-436243@biblewayirving.com
DTSTART:20261016T210000Z
DTEND:20261017T210000Z
CLASS:PUBLIC
CREATED:20260215T101651
DESCRIPTION:Women’s Retreat | October 16-17\nJoin us for an unforgettable
  Women’s Retreat on October 16-17. This is your opportunity to step away
  from the busyness of life\, grow in faith\, and connect with other men in
  Christ. Don’t miss this powerful time of fellowship and renewal.\nRegis
 ter to attend today as spots are limited. \nRegistration closes October 1
 \, 2026. 
LAST-MODIFIED:20260215T101651
LOCATION:Camp Copass
SUMMARY:2026 Women's Retreat
URL;VALUE=URI:https://biblewayirving.com/events/2026-womens-retreat/2026-10
 -16
ATTACH;FILENAME=WOMENS-RETREAT.jpg;FMTTYPE=image/jpeg:https://dq5pwpg1q8ru0
 .cloudfront.net/2026/02/15/16/15/39/ce776c42-6b8e-477b-9d61-51d7120c7a86/W
 OMENS-RETREAT.jpg
END:VEVENT
END:VCALENDAR
